BEGIN:VCALENDAR
VERSION:2.0
PRODID:-//Aura Bio - ECPv6.15.20//NONSGML v1.0//EN
CALSCALE:GREGORIAN
METHOD:PUBLISH
X-ORIGINAL-URL:https://aurabio.org
X-WR-CALDESC:Évènements pour Aura Bio
REFRESH-INTERVAL;VALUE=DURATION:PT1H
X-Robots-Tag:noindex
X-PUBLISHED-TTL:PT1H
BEGIN:VTIMEZONE
TZID:Europe/Paris
BEGIN:DAYLIGHT
TZOFFSETFROM:+0100
TZOFFSETTO:+0200
TZNAME:CEST
DTSTART:20250330T010000
END:DAYLIGHT
BEGIN:STANDARD
TZOFFSETFROM:+0200
TZOFFSETTO:+0100
TZNAME:CET
DTSTART:20251026T010000
END:STANDARD
BEGIN:DAYLIGHT
TZOFFSETFROM:+0100
TZOFFSETTO:+0200
TZNAME:CEST
DTSTART:20260329T010000
END:DAYLIGHT
BEGIN:STANDARD
TZOFFSETFROM:+0200
TZOFFSETTO:+0100
TZNAME:CET
DTSTART:20261025T010000
END:STANDARD
BEGIN:DAYLIGHT
TZOFFSETFROM:+0100
TZOFFSETTO:+0200
TZNAME:CEST
DTSTART:20270328T010000
END:DAYLIGHT
BEGIN:STANDARD
TZOFFSETFROM:+0200
TZOFFSETTO:+0100
TZNAME:CET
DTSTART:20271031T010000
END:STANDARD
END:VTIMEZONE
BEGIN:VEVENT
DTSTART;TZID=Europe/Paris:20260309T093000
DTEND;TZID=Europe/Paris:20260309T173000
DTSTAMP:20260421T203554
CREATED:20260204T162740Z
LAST-MODIFIED:20260204T162841Z
UID:10000128-1773048600-1773077400@aurabio.org
SUMMARY:Formation - Initiation à la géobiologie : Adapter et améliorer l'environnement de sa ferme
DESCRIPTION:le 09 et 16/03/2026 de 9h30 à 17h30 \n\n  \n  \n\n\nINTERVENANT\nFlorence Hervé Marty\, géobiologue et énergéticienneOBJECTIFS\nDécouvrir l’influence des composantes de l’environnement géobiologique\nApprendre à les détecter et à y apporter des de correction\nAnalyser les pollutions électromagnétiques et les manières \n\n\nPUBLIC\nTout.e agriculteur.ice intéressé.e par la thématique\n\nLIEU\nEn Haute-Loire sur un lieu à définir\nProgramme et inscription :  ICI \nAutres formations proposées par Haute-Loire Bio : ICI \nContact :\nCloé MONTCHER\ncloe.hauteloirebio@aurabio.org\n07 83 70 68 18
URL:https://aurabio.org/evenement/formation-initiation-a-la-geobiologie-2/
LOCATION:Haute-Loire\, Haute-Loire\, France
CATEGORIES:Formations
ATTACH;FMTTYPE=image/png:https://aurabio.org/wp-content/uploads/2026/01/Image-Geobio-Form°.png
END:VEVENT
BEGIN:VEVENT
DTSTART;VALUE=DATE:20260310
DTEND;VALUE=DATE:20260311
DTSTAMP:20260421T203554
CREATED:20260121T124841Z
LAST-MODIFIED:20260121T125242Z
UID:10000151-1773100800-1773187199@aurabio.org
SUMMARY:Formation - Construire ou requestionner sa stratégie commerciale pour développer et optimiser ses ventes en circuits courts
DESCRIPTION:Cette formation se déroulera le 10 mars 2026 \nPré-requis : aucun\n\nOBJECTIFS  \n\n\n\nÊtre capable de réaliser un état des lieux du territoire\nMaîtriser les grandes étapes de la construction de sa stratégie commerciale\nSavoir construire son projet commercial\, adapté à soi\, sa ferme et au potentiel\ndu territoire\nIdentifier sa clientèle cible\nSavoir identifier les freins et opportunités au développement commercial de sa\nferme\nÊtre capable d’élaborer un plan d’actions commerciales pour\noptimiser ses ventes\n\n\n\nINTERVENANTES\nSolenn BRIOUDE\, animatrice circuits courts à Bio 63 \nLIEU \nA Chambéry (73) \nFlyer et modalités d’inscription : ICI \nLes autres formations proposées par l’ADABio : ICI \nInformation et contact :\nMagali PAUSIN\nanimation.dessavoie@adabio.com\n06 26 54 41 11
URL:https://aurabio.org/evenement/formation-construire-ou-requestionner-sa-strategie-commerciale-pour-developper-et-optimiser-ses-ventes-en-circuits-courts-2/
LOCATION:Savoie (73)\, Savoie
CATEGORIES:Formations
ATTACH;FMTTYPE=image/png:https://aurabio.org/wp-content/uploads/2026/01/LOGO-WEB-MONO_ADABIO-500.png
ORGANIZER;CN="ADABio":MAILTO:contact@adabio.com
END:VEVENT
BEGIN:VEVENT
DTSTART;TZID=Europe/Paris:20260310T093000
DTEND;TZID=Europe/Paris:20260310T173000
DTSTAMP:20260421T203554
CREATED:20260204T161648Z
LAST-MODIFIED:20260204T162333Z
UID:10000132-1773135000-1773163800@aurabio.org
SUMMARY:Formation - Perfectionnement à la géobiologie : Détection et analyse de l'eau et des courants sur sa ferme
DESCRIPTION:les 10 et 17/03/2026 de 9h30 à 17h30 \n\n  \n  \n\n\nINTERVENANT\nFlorence Hervé Marty\, géobiologue et énergéticienne\n\nOBJECTIFS\n\nApprofondir la connaissance\nDécouvrir les notions de dimensions et géométrie opérative\, de proportions géobiologique\nAméliorer la recherche de l’eau : sur le terrain et sur plan\nUtiliser les baguettes en détection sensible sur les animaux\n\nPUBLIC et PRÉ-REQUIS\nAgriculteurs-rices ayant déjà suivi une formation d’initiation aux bases de la géobiologie.\nPré-requis évalués.\n\nLIEU\nEn Haute-Loire sur un lieu à définir\nProgramme et inscription : ICI \nAutres formations proposées par Haute-Loire Bio : ICI \nContact :\nCloé MONTCHER\ncloe.hauteloirebio@aurabio.org\n07 83 70 68 18
URL:https://aurabio.org/evenement/formation-perfectionnement-a-la-geobiologie-2/
LOCATION:Haute-Loire\, Haute-Loire\, France
CATEGORIES:Formations
ATTACH;FMTTYPE=image/png:https://aurabio.org/wp-content/uploads/2026/01/Image-Geobio-Form°-perf.png
END:VEVENT
BEGIN:VEVENT
DTSTART;TZID=Europe/Paris:20260311T140000
DTEND;TZID=Europe/Paris:20260421T180000
DTSTAMP:20260421T203554
CREATED:20260311T162404Z
LAST-MODIFIED:20260401T125458Z
UID:10000161-1773237600-1776794400@aurabio.org
SUMMARY:Colloque Agriculture Biologique - toutes productions
DESCRIPTION:La FRAB AURA organise un colloque sur le thème de l’expérimentation et de la recherche et développement en Agriculture Biologique. Aussi\, nous vous donnons rendez-vous mardi 21 avril de 14h à 18h sur le Campus Montravel à Villars (42). Cet événement a pour objectif de renforcer les synergies entre les productrices et producteurs bio et les acteurs de la recherche et de l’expérimentation en Auvergne-Rhône-Alpes. \nAu programme \n14h – Introduction (accueil à partir de 13h30) \nJean-Maxime BUISSON et Nathanaël JACQUART\, Coprésidents de la FRAB AURA \n14h15 – Panorama de l’expérimentation et de la recherche  et développement en Agriculture Biologique \nVianney LE PICHON\, Directeur – Grab \nRodolphe VIDAL\, Coordinateur pôle Qualités et Transformation – Itab \nTémoignages du réseau GAB & FRAB AURA \n15h45 – Ateliers au choix \n✅ Comment construire et financer un projet ? \n✅ Depuis le recensement des besoins sur le terrain jusqu’au transfert des résultats\, comment mettre en place des partenariats efficaces ? \n✅ Comment diffuser et vulgariser des résultats pour une meilleure appropriation \n16h45 – Conclusion et perspectives \nEn présence de Jean-Marc CALLOIS\, Directeur régional adjoint de l’alimentation de l’agriculture et de la forêt en Auvergne-Rhône-Alpes \n17h-18h – Clôture gourmande \nPossibilités d’échanges autour de projets d’expérimentation en cours \nInscrivez-vous sur ce lien \nRéseau unique 100% bio en Auvergne-Rhône-Alpes\, la Fédération Régionale de l’agriculture biologique en Auvergne Rhône-Alpes (FRAB AURA) fédère plus de 1400 productrices et producteurs bio grâce à ses 8 groupements départementaux (GAB). La FRAB AURA est membre du réseau FNAB et se mobilise pour le développement de l’agriculture biologique et d’une alimentation durable en lien avec les instances politiques locales\, régionales\, nationales et européennes. \nEn savoir+ sur la FRAB AURA
URL:https://aurabio.org/evenement/colloque-agriculture-biologique-experimentation/
LOCATION:Campus Montravel\, Chemin de Montravel\, Villars\, 42390\, France
CATEGORIES:Colloques
ATTACH;FMTTYPE=image/jpeg:https://aurabio.org/wp-content/uploads/2026/03/Save-the-date_Event-FRAB-AURA-2026_Experimentation-AB-600-x-429-px.jpg
END:VEVENT
BEGIN:VEVENT
DTSTART;TZID=Europe/Paris:20260317T133000
DTEND;TZID=Europe/Paris:20260317T170000
DTSTAMP:20260421T203554
CREATED:20260116T140828Z
LAST-MODIFIED:20260116T140828Z
UID:10000144-1773754200-1773766800@aurabio.org
SUMMARY:Formation - Gestion du mildiou en viticulture biologique
DESCRIPTION:Appréhender la gestion du mildiou en viticulture biologique à bas intrants cuivre. \nCe module de formation a été réalisé dans le cadre du projet BasIC financé dans le cadre d’un AAP Ecophyto de 2019 à 2022. Le projet BasIC\, piloté par la FNAB\, a rassemblé les partenaires suivants : INRAE\, ITAB\, Bio en Grand Est\, Bio Nouvelle Aquitaine\, CAB Pays de Loire\, AgrobioPérigord\, BioOccitanie\, FRAB AuRA\, BioBourgogne. \nPrésentation du projet BasIC et du réseau FNAB\nAppréhender les bases du comportement du mildiou et identifier le rôle du cuivre\nIdentifier collectivement les bonnes et mauvaises pratiques de gestion du mildiou\nAppréhender les principaux leviers de réduction du cuivre en viticulture bio\nApprendre à positionner ses traitements mildiou selon différents facteurs pédoclimatiques \nLe 17 mars 2026 après-midi\, à Villefranche-sur-Saône\, 69 \nPROGRAMME DÉTAILLÉ
URL:https://aurabio.org/evenement/formation-gestion-du-mildiou-en-viticulture-biologique/
LOCATION:Rhône\, Rhône\, France
CATEGORIES:Formations
ATTACH;FMTTYPE=image/png:https://aurabio.org/wp-content/uploads/2026/01/Capture-decran-2026-01-16-150611.png
END:VEVENT
BEGIN:VEVENT
DTSTART;TZID=Europe/Paris:20260323T080000
DTEND;TZID=Europe/Paris:20260325T170000
DTSTAMP:20260421T203554
CREATED:20251021T112459Z
LAST-MODIFIED:20251021T112459Z
UID:10000041-1774252800-1774458000@aurabio.org
SUMMARY:[FORMATION] SOL ET FERTILITE EN CULTURE DE PPAM
DESCRIPTION:[FORMATION] SOL ET FERTILITE EN CULTURE DE PPAM \nDate : Lundi 23 et mardi 24 mars 2026 OU mercredi 24 et jeudi 25 mars 2026 (en cours de précision) \nLieu : Motz (73) \nObjectifs : \n\nAcquérir des bases solides de fonctionnement du sol\nPoser une réflexion sur son contexte pédoclimatique et agronomique\, afin d’améliorer ses pratiques professionnelles pour la production de PPAM\nDévelopper une gestion adaptée des cultures et décider du type d’intervention à mener.\n\nIntervenant : Miguel NEAU\, botaniste-formateur\, consultant en agro-environnement (par syndicat des simples) \nInscriptions : ICI \nPlus d’information auprès de Julie VINAY : 06 26 54 42 37 / technique.viti@adabio.com
URL:https://aurabio.org/evenement/formation-sol-et-fertilite-en-culture-de-ppam/
LOCATION:Savoie (73)\, Savoie
CATEGORIES:Formations
ATTACH;FMTTYPE=image/jpeg:https://aurabio.org/wp-content/uploads/2025/10/Sarriette.jpg
ORGANIZER;CN="ADABio":MAILTO:contact@adabio.com
END:VEVENT
BEGIN:VEVENT
DTSTART;TZID=Europe/Paris:20260324T093000
DTEND;TZID=Europe/Paris:20260324T120000
DTSTAMP:20260421T203554
CREATED:20260320T091206Z
LAST-MODIFIED:20260320T091426Z
UID:10000162-1774344600-1774353600@aurabio.org
SUMMARY:Démonstration castration veaux bio
DESCRIPTION:Vous êtes éleveur\, éleveuse\, intéressé.e par l’engraissement des bovins ? \nPaul Coutarel vous propose une démonstration « castration de veaux bio » le mardi 24 mars à 9h30 à la Chassagne – Chaliers. \nCe temps sera suivi par des échanges avec un organisme certificateur sur le sujet de la castration en bio.
URL:https://aurabio.org/evenement/demonstration-castration-veaux-bio/
LOCATION:Coutarel\, La Chassagne\, Chaliers\, Cantal\, 15320\, France
CATEGORIES:Rencontres techniques
ATTACH;FMTTYPE=image/png:https://aurabio.org/wp-content/uploads/2026/03/LOGO-WEB-QUADRI_BIO15.png
ORGANIZER;CN="Bio 15":MAILTO:bio15@aurabio.org
END:VEVENT
BEGIN:VEVENT
DTSTART;TZID=Europe/Paris:20260326T093000
DTEND;TZID=Europe/Paris:20260327T173000
DTSTAMP:20260421T203554
CREATED:20251204T171920Z
LAST-MODIFIED:20251204T172046Z
UID:10000116-1774517400-1774632600@aurabio.org
SUMMARY:Formation - Zythologie : savoir déguster pour identifier les défauts et mieux communiquer sur ses bières
DESCRIPTION:Jeudi 26 et Vendredi 27 mars 2026\nde 9h30 à 17h30 \n\n  \n\n\n\nINTERVENANTE\nÉlisabeth PIERRE\, formatrice professionnelle spécialisée dans les bières\, Académie Bierissima \n OBJECTIFS\nAcquérir et maîtriser les savoirs en termes de dégustation pour mieux identifier les défauts\, parler des bières et mieux les vendre. \nPUBLIC\nTout.e agriculteur.ice intéressé.e par la thématique \nLIEU\nBrasserie l’Agrivoise\, Saint-Agrève (07) \n\nProgramme et inscription :  ICI \nAutres formations proposées par Haute-Loire Bio : ICI \nContact :\nJulie GRIGNION\ncultures.hauteloirebio@aurabio.org\n07 69 84 43 84
URL:https://aurabio.org/evenement/formation-zythologie-savoir-deguster-pour-identifier-les-defauts-et-mieux-communiquer-sur-ses-bieres/
LOCATION:Haute-Loire\, Haute-Loire\, France
CATEGORIES:Formations
ATTACH;FMTTYPE=image/jpeg:https://aurabio.org/wp-content/uploads/2025/12/Photo_agenda_FRAB2-2.jpg
END:VEVENT
BEGIN:VEVENT
DTSTART;VALUE=DATE:20260331
DTEND;VALUE=DATE:20260401
DTSTAMP:20260421T203554
CREATED:20251106T153913Z
LAST-MODIFIED:20251106T153913Z
UID:10000100-1774915200-1775001599@aurabio.org
SUMMARY:Formation - Reconnaître les oiseaux en milieux agricoles et favoriser leur présence
DESCRIPTION:Objectifs : \n\nReconnaître les espèces des milieux cultivés du Massif Central\nComprendre les liens entre pratiques agricoles et avifaune\nFaire le lien être les caractéristiques d’une exploitation et ses capacités d’accueil pour l’avifaune\nMaîtriser les outils et méthodes pour reconnaître et observer les oiseaux au quotidien sur sa ferme\nIdentifier des leviers d’actions sur sa ferme pour favoriser les oiseaux des champs
URL:https://aurabio.org/evenement/formation-reconnaitre-les-oiseaux-en-milieux-agricoles-et-favoriser-leur-presence/
LOCATION:Aubière\, 11 allée Pierre de Fermat\, Aubière\, Puy-de-Dôme\, 63170\, France
CATEGORIES:Formations
ATTACH;FMTTYPE=image/png:https://aurabio.org/wp-content/uploads/2025/10/LOGO-WEB-QUADRI_BIO63-e1761648637380.png
END:VEVENT
BEGIN:VEVENT
DTSTART;TZID=Europe/Paris:20260414T093000
DTEND;TZID=Europe/Paris:20260414T173000
DTSTAMP:20260421T203554
CREATED:20251204T153106Z
LAST-MODIFIED:20251204T170634Z
UID:10000111-1776159000-1776187800@aurabio.org
SUMMARY:Formation - Grandes cultures : Optimiser la fertilisation des prairies permanentes et temporaires
DESCRIPTION:le 14/04/2026 de 9h30 à 17h30 \n\nCette formation répond aux exigences des MAEC « Autonomie fourragère – Élevage d’herbivores » (MAEC HBV niveau 1\, 2 ou 3) proposées sur le territoire du SIGAL\, de l’Agglo Pays d’Issoire et du SMVVA \n\n\nINTERVENANT\nMaxime VIAL\, spécialiste des semences et prairies\, VIAL Prairies \n\nOBJECTIFS\nÊtre capable d’optimiser la fertilisation des prairies pour améliorer la production fourragère tout en minimisant les impacts environnementaux\n\nPUBLIC\nTout.e agriculteur.ice intéressé.e par la thématiqueLIEU\nSecteur Massiac (15)\nProgramme et inscription :  ICI \nAutres formations proposées par Haute-Loire Bio : ICI \nContact :\nJulie GRIGNION\ncultures.hauteloirebio@aurabio.org\n07 69 84 43 84
URL:https://aurabio.org/evenement/formation-grandes-cultures-optimiser-la-fertilisation-des-prairies-permanentes-et-temporaires/
LOCATION:Haute-Loire\, Haute-Loire\, France
CATEGORIES:Formations
ATTACH;FMTTYPE=image/jpeg:https://aurabio.org/wp-content/uploads/2025/12/Photo_agenda_FRAB2.jpg
END:VEVENT
BEGIN:VEVENT
DTSTART;TZID=Europe/Paris:20260415T080000
DTEND;TZID=Europe/Paris:20260531T170000
DTSTAMP:20260421T203554
CREATED:20260417T120425Z
LAST-MODIFIED:20260417T120425Z
UID:10000163-1776240000-1780246800@aurabio.org
SUMMARY:Evénement - développer ses circuits courts avec "Manger Bio et Local\, c'est l'idéal"
DESCRIPTION:Développer ses circuits courts : \nDu 26 septembre au 25 octobre 2026\, le réseau GAB-FRAB AURA organise une nouvelle édition de Manger Bio et Local\, c’est l’idéal\, un temps fort régional dédié à la promotion d’une alimentation saine et durable. \nProducteurs et productrices bio : c’est l’occasion idéale de valoriser votre activité et d’aller à la rencontre du grand public ! En proposant une animation (visite de ferme\, repas festif…)\, vous bénéficiez d’une mise en avant dans la programmation régionale et d’un plan de communication dédié. Nous mettrons un kit de communication gratuit à votre disposition pour promouvoir l’événement sur votre territoire. Une participation financière est demandée aux structures non adhérentes pour l’envoi d’un kit de communication physique. \n👉 Inscrivez votre événement avant le 31 mai 2026 et profitez d’un accompagnement pour construire votre animation. \nUn webinaire d’appui est proposé le 1er juin 2026 de 13h à 14h30  pour vous donner les clés de préparation. Inscrivez-vous ici. Au programme de ce temps d’échange : \n\nPrésentation de l’édition 2026 : dates clés à retenir\, kit de communication\, comment accueillir du public sur sa ferme…\nRetour d’expérience : intervention d’une ferme sur ce qui fonctionne et les points d’attentions suite aux éditions précédentes\nPrésentation de nos outils « Guide des animations »\, « Guide du participant MBEL »\, « Guide de communication »\nTemps questions réponses\n\nFaites rayonner le bio local sur votre territoire… et invitez le public à vivre une expérience authentique au cœur de votre ferme ! \nPour en savoir plus sur la commercialisation et la communication\, rendez-vous ici
URL:https://aurabio.org/evenement/developper-ses-circuits-courts-avec-manger-bio-et-local-cest-lideal/
LOCATION:Auvergne-Rhône-Alpes\, Auvergne-Rhône-Alpes
CATEGORIES:Évènements grand public
ATTACH;FMTTYPE=image/jpeg:https://aurabio.org/wp-content/uploads/2026/04/Affiche-A3-Manger-bio-local-2026.jpg
END:VEVENT
BEGIN:VEVENT
DTSTART;VALUE=DATE:20260420
DTEND;VALUE=DATE:20260421
DTSTAMP:20260421T203554
CREATED:20251103T135109Z
LAST-MODIFIED:20251103T142203Z
UID:10000083-1776643200-1776729599@aurabio.org
SUMMARY:Formation - Déclaration PAC
DESCRIPTION:Objectifs : \n\nComprendre les enjeux de la PAC 2023-2027\, toute échelle confondue\nConnaître et comprendre ses engagements en déclarant la PAC\nUtiliser efficacement son espace Télépac et télédéclarer sans erreur
URL:https://aurabio.org/evenement/declaration-pac/
LOCATION:Aubière\, 11 allée Pierre de Fermat\, Aubière\, Puy-de-Dôme\, 63170\, France
CATEGORIES:Formations
ATTACH;FMTTYPE=image/png:https://aurabio.org/wp-content/uploads/2025/10/LOGO-WEB-QUADRI_BIO63-e1761648637380.png
END:VEVENT
BEGIN:VEVENT
DTSTART;VALUE=DATE:20260420
DTEND;VALUE=DATE:20260421
DTSTAMP:20260421T203554
CREATED:20251103T142108Z
LAST-MODIFIED:20251103T142108Z
UID:10000092-1776672000-1776704400@aurabio.org
SUMMARY:Formation - Désherbage mécanique
DESCRIPTION:Objectifs : \n\nConnaître et maîtriser les techniques de désherbage mécanique de manière autonome sur ses parcelles\nChoisir les outils adaptés en fonction des stades des adventices et des cultures\, des conditions pédoclimatiques\nSavoir régler et utiliser les outils de désherbage mécanique\nConstruire sa stratégie de désherbage\nFaire des choix d’investissements éclairés
URL:https://aurabio.org/evenement/formation-desherbage-mecanique/2026-04-20/
LOCATION:Haute-Savoie
CATEGORIES:Formations
ATTACH;FMTTYPE=image/png:https://aurabio.org/wp-content/uploads/2025/10/LOGO-WEB-QUADRI_BIO63-e1761648637380.png
END:VEVENT
BEGIN:VEVENT
DTSTART;VALUE=DATE:20260421
DTEND;VALUE=DATE:20260422
DTSTAMP:20260421T203554
CREATED:20251103T140304Z
LAST-MODIFIED:20251103T140304Z
UID:10000086-1776729600-1776815999@aurabio.org
SUMMARY:Formation - Savoir reconnaitre les principales plantes de ma prairie
DESCRIPTION:Objectifs : \n\nConnaître les principales graminées et légumineuses présentes dans les prairies\nSavoir utiliser une clé de détermination simplifiée\nIdentifier sur le terrain les principales graminées et légumineuses qui poussent dans ma prairie au stade végétatif\nFaire le lien entre les espèces semées et celles observées lors des premiers mois d’implantation d’une prairie
URL:https://aurabio.org/evenement/formation-savoir-reconnaitre-les-principales-plantes-de-ma-prairie/
LOCATION:Puy-de-Dôme\, Puy-de-Dôme\, France
CATEGORIES:Formations
ATTACH;FMTTYPE=image/png:https://aurabio.org/wp-content/uploads/2025/10/LOGO-WEB-QUADRI_BIO63-e1761648637380.png
END:VEVENT
BEGIN:VEVENT
DTSTART;TZID=Europe/Paris:20260421T080000
DTEND;TZID=Europe/Paris:20260422T170000
DTSTAMP:20260421T203554
CREATED:20260116T143058Z
LAST-MODIFIED:20260116T143655Z
UID:10000145-1776758400-1776877200@aurabio.org
SUMMARY:Formation - Pratiquer la traction animale en viticulture : apprentissage et perfectionnement en Beaujolais
DESCRIPTION:Cette formation s’adresse à tou·tes\, soit pour reprendre les bases en s’exerçant auprès de chevaux dressés\, soit pour se perfectionner et s’initier à de nouvelles pratiques. Vous pouvez venir avec votre cheval pour vous entrainer en condition réelle ! \n2 jours alliant pratiques et temps théoriques :\nPrésentation du matériel adapté\, analyse du matériel des stagiaires et préparation du cheval à la traction\nLes principes fondamentaux en éthologie et approche d’un cheval (rappels sur la morphologie du cheval)\nApprendre à mener avec des outils dans les mains en douceur pour le cheval\nAméliorer la conduite de son cheval avec mise en pratique\nConduite de son cheval dans une situation de labour\nUtiliser son cheval dans un autre but que le travail du sol : attelage\, débardage\, mise en pratique.\nSoin et alimentation du cheval \nLes 21 et 22 avril 2026\, à Fleurie\, 69 \nPROGRAMME DÉTAILLÉ
URL:https://aurabio.org/evenement/formation-pratiquer-la-traction-animale-en-viticulture-apprentissage-et-perfectionnement-en-beaujolais/
LOCATION:Rhône\, Rhône\, France
CATEGORIES:Formations
ATTACH;FMTTYPE=image/jpeg:https://aurabio.org/wp-content/uploads/2026/01/Capture-decran-2026-01-16-152710.jpg
END:VEVENT
BEGIN:VEVENT
DTSTART;TZID=Europe/Paris:20260421T093000
DTEND;TZID=Europe/Paris:20260421T123000
DTSTAMP:20260421T203554
CREATED:20260113T152957Z
LAST-MODIFIED:20260113T153407Z
UID:10000125-1776763800-1776774600@aurabio.org
SUMMARY:Formation - Comprendre la PAC et savoir utiliser de manière autonome TéléPAC
DESCRIPTION:  \n21 et 27 avril 2026\n2 demi-journées \n\nINTERVENANT.E.S :\nDDT 43\, AFOCG 43\, AFOCG 63 \nOBJECTIFS\nConnaître le fonctionnement de la PAC. Identifier les nouveauté pour 2026. Être autonome dans l’utilisation de TéléPAC. Expérimenter sur une situation concrète. \nPUBLIC\nTout.e agriculteur.ice intéressé.e par la thématique \nLIEU\nSur un lieu central en Haute-Loire \n\nProgramme et inscription :  ICI \nInscription :  à venir \nAutres formations proposées par Haute-Loire Bio : ICI \nContact : \nCloé MONTCHER\ncloe.hauteloirebio@aurabio.org\n07 83 70 68 18
URL:https://aurabio.org/evenement/comprendre-la-pac-et-savoir-utiliser-de-maniere-autonome-telepacster-pour-identifier-les-defauts-et-mieux-communiquer-sur-ses-bieres-2/2026-04-21/
LOCATION:Haute-Loire\, Haute-Loire\, France
CATEGORIES:Formations
ATTACH;FMTTYPE=image/png:https://aurabio.org/wp-content/uploads/2025/06/LOGO-WEB-QUADRI_HAUTE-LOIRE-BIO-1-e1762269930869.png
END:VEVENT
BEGIN:VEVENT
DTSTART;TZID=Europe/Paris:20260427T093000
DTEND;TZID=Europe/Paris:20260427T123000
DTSTAMP:20260421T203554
CREATED:20260113T152957Z
LAST-MODIFIED:20260113T153407Z
UID:10000126-1777282200-1777293000@aurabio.org
SUMMARY:Formation - Comprendre la PAC et savoir utiliser de manière autonome TéléPAC
DESCRIPTION:  \n21 et 27 avril 2026\n2 demi-journées \n\nINTERVENANT.E.S :\nDDT 43\, AFOCG 43\, AFOCG 63 \nOBJECTIFS\nConnaître le fonctionnement de la PAC. Identifier les nouveauté pour 2026. Être autonome dans l’utilisation de TéléPAC. Expérimenter sur une situation concrète. \nPUBLIC\nTout.e agriculteur.ice intéressé.e par la thématique \nLIEU\nSur un lieu central en Haute-Loire \n\nProgramme et inscription :  ICI \nInscription :  à venir \nAutres formations proposées par Haute-Loire Bio : ICI \nContact : \nCloé MONTCHER\ncloe.hauteloirebio@aurabio.org\n07 83 70 68 18
URL:https://aurabio.org/evenement/comprendre-la-pac-et-savoir-utiliser-de-maniere-autonome-telepacster-pour-identifier-les-defauts-et-mieux-communiquer-sur-ses-bieres-2/2026-04-27/
LOCATION:Haute-Loire\, Haute-Loire\, France
CATEGORIES:Formations
ATTACH;FMTTYPE=image/png:https://aurabio.org/wp-content/uploads/2025/06/LOGO-WEB-QUADRI_HAUTE-LOIRE-BIO-1-e1762269930869.png
END:VEVENT
BEGIN:VEVENT
DTSTART;TZID=Europe/Paris:20260616T140000
DTEND;TZID=Europe/Paris:20260616T173000
DTSTAMP:20260421T203554
CREATED:20260116T143632Z
LAST-MODIFIED:20260116T143632Z
UID:10000146-1781618400-1781631000@aurabio.org
SUMMARY:Formation - Comprendre et lutter contre la flavescence dorée en viticulture biologique
DESCRIPTION:Savoir reconnaitre les symptômes de la Flavescence Dorée\nMettre en place une lutte en viticulture biologique efficace et la prospection\nComprendre l’importance de la lutte collective. \nLe 16 juin 2026 après-midi\, à Fleurie\, 69 \nPROGRAMME DÉTAILLÉ
URL:https://aurabio.org/evenement/formation-comprendre-et-lutter-contre-la-flavescence-doree-en-viticulture-biologique/
LOCATION:Rhône\, Rhône\, France
CATEGORIES:Formations
ATTACH;FMTTYPE=image/png:https://aurabio.org/wp-content/uploads/2026/01/Capture-decran-2026-01-16-153422.png
END:VEVENT
BEGIN:VEVENT
DTSTART;TZID=Europe/Paris:20260929T090000
DTEND;TZID=Europe/Paris:20260929T170000
DTSTAMP:20260421T203554
CREATED:20251215T162217Z
LAST-MODIFIED:20251215T163139Z
UID:10000118-1790672400-1790701200@aurabio.org
SUMMARY:Semeurs de bio 2026 - Préserver la vie du sol : fertilité et durabilité en bio
DESCRIPTION:Le salon professionnel Semeurs de Bio revient pour sa 4ème édition sur la thématique « Préserver la vie du sol : fertilité et durabilité en bio ». Ce salon maraîchage\, arboriculture\, petits fruits et PPAM se tiendra le 29 septembre 2026 à côté de Clermont Ferrand. \n100% bio\, le salon s’adresse à tous les professionnels du monde agricole : les agriculteurs\, les porteurs de projets\, les personnes souhaitant diversifier leur production ou s’installer\, ainsi qu’aux étudiants du monde agricole. Plus d’informations et le programme de la journée sont à venir sur la page officielle de l’événement : https://marmilhat.fr/semeurs-de-bio/ \nRetour sur l’édition 2024 \n\n430 visiteurs professionnels\n30 exposants\n17 associations\n50 personnes mobilisés pour l’organisation\n1 parcelle de démonstration\n2 food-trucks bio\n\n \nEn attendant\, rendez-vous sur notre page https://aurabio.org/produire-bio/ pour en savoir plus la production bio ! \nUn événement organisé par \n \nAvec le soutien financier de
URL:https://aurabio.org/evenement/semeurs-de-bio-2026-preserver-la-vie-du-sol-fertilite-et-durabilite-en-bio/
LOCATION:EPLEFPA DE MARMILHAT\, 63370 Marmilhat N\, Lempdes\, Puy-de-Dôme\, 63370\, France
CATEGORIES:Salons professionnels
ATTACH;FMTTYPE=image/png:https://aurabio.org/wp-content/uploads/2025/12/HEADER_FACEBOOK_850x312px.png
END:VEVENT
END:VCALENDAR