BEGIN:VCALENDAR
VERSION:2.0
PRODID:-//Aura Bio - ECPv6.15.20//NONSGML v1.0//EN
CALSCALE:GREGORIAN
METHOD:PUBLISH
X-WR-CALNAME:Aura Bio
X-ORIGINAL-URL:https://aurabio.org
X-WR-CALDESC:Évènements pour Aura Bio
REFRESH-INTERVAL;VALUE=DURATION:PT1H
X-Robots-Tag:noindex
X-PUBLISHED-TTL:PT1H
BEGIN:VTIMEZONE
TZID:Europe/Paris
BEGIN:DAYLIGHT
TZOFFSETFROM:+0100
TZOFFSETTO:+0200
TZNAME:CEST
DTSTART:20240331T010000
END:DAYLIGHT
BEGIN:STANDARD
TZOFFSETFROM:+0200
TZOFFSETTO:+0100
TZNAME:CET
DTSTART:20241027T010000
END:STANDARD
BEGIN:DAYLIGHT
TZOFFSETFROM:+0100
TZOFFSETTO:+0200
TZNAME:CEST
DTSTART:20250330T010000
END:DAYLIGHT
BEGIN:STANDARD
TZOFFSETFROM:+0200
TZOFFSETTO:+0100
TZNAME:CET
DTSTART:20251026T010000
END:STANDARD
BEGIN:DAYLIGHT
TZOFFSETFROM:+0100
TZOFFSETTO:+0200
TZNAME:CEST
DTSTART:20260329T010000
END:DAYLIGHT
BEGIN:STANDARD
TZOFFSETFROM:+0200
TZOFFSETTO:+0100
TZNAME:CET
DTSTART:20261025T010000
END:STANDARD
END:VTIMEZONE
BEGIN:VEVENT
DTSTART;VALUE=DATE:20251013
DTEND;VALUE=DATE:20251014
DTSTAMP:20260421T191514
CREATED:20251010T095203Z
LAST-MODIFIED:20251010T124511Z
UID:10000025-1760313600-1760399999@aurabio.org
SUMMARY:Maraîchage et changements climatiques - journée de visites
DESCRIPTION:AGRIBIO Rhône & Loire a le plaisir de vous inviter à une journée de visites consacrées à l’atténuation et l’adaptation aux changements climatiques en maraîchage\, organisée dans le cadre du projet “Maraîchage et changements climatiques”\, porté par Terre de Liens en partenariat avec le Bureau technique des maraîchers. \n📍 Lieu : Puy-de-Dôme (63)\n• Matin (9h30 – 12h00) : Visite du Potager de Bélime chez Nathanaël Jacquart (Luzillat – 63350)\n• Après-midi (14h00 – 16h30) : Visite du Jardin de Vinzelles chez Kévin Guerreiro (Lieu-dit Les Brassets – 63461 Vinzelles)\n➡️ Les deux fermes sont situées à 20 minutes l’une de l’autre. \n🚗 Rendez-vous à 9h30 au Potager de Bélime.\nUn covoiturage est organisé depuis la Maison des agriculteurs de La Tour de Salvagny (départ 8h00 – minibus 9 places + voitures des participants).\nFin prévue à 16h30 sur place\, retour vers 18h00.\n🥗 Déjeuner : pique-nique tiré du sac apporté par chacun. \nCette journée sera l’occasion de rencontrer des maraîchers engagés\, découvrir des pratiques concrètes face aux aléas climatiques (ombrage des cultures\, gestion de l’eau\, biodiversité\, fertilité des sols\, densification\, etc.) et d’échanger autour de solutions innovantes.\nNous espérons vous compter parmi nous pour partager ce temps fort autour du maraîchage et des adaptations aux changements climatiques. \nPROGRAMME \nINSCRIPTION ICI
URL:https://aurabio.org/evenement/maraichage-et-changements-climatiques-journee-de-visites/
LOCATION:Puy-de-Dôme\, Puy-de-Dôme\, France
CATEGORIES:Rencontres techniques,Visites de ferme
ATTACH;FMTTYPE=image/jpeg:https://aurabio.org/wp-content/uploads/2025/10/image.jpg
END:VEVENT
BEGIN:VEVENT
DTSTART;TZID=Europe/Paris:20251027T090000
DTEND;TZID=Europe/Paris:20251027T170000
DTSTAMP:20260421T191514
CREATED:20250922T115341Z
LAST-MODIFIED:20250925T102506Z
UID:10000014-1761555600-1761584400@aurabio.org
SUMMARY:Formation Lutter contre les taupes\, mulots et campagnols - INITIATION
DESCRIPTION:Découvrir la biologie de la taupe et du campagnol terrestre. \nComprendre l’écologie et le cycle de vie de ces deux espèces\, l’impact du changement climatique sur leur population. \nSe rendre compte des dégâts causés à la production agricole\, des risques sanitaires et des conséquences que les pullulations peuvent engendrer. Analyser le paysage de la parcelle agricole impactée. \nS’initier aux techniques de piégeage mécaniques\, être capable d’identifier les indices de surface et de poser les pièges adéquats en fonction de l’espèce ciblée. \nGérer le matériel de piégeage\, être efficace et autonome dans la pratique du piégeage. \nPROGRAMME DÉTAILLÉ
URL:https://aurabio.org/evenement/formation-lutter-contre-les-taupes-mulots-et-campagnols-initiation/
LOCATION:Sainte-Catherine\, Sainte-Catherine\, Rhône\, 69440
CATEGORIES:Formations
ATTACH;FMTTYPE=image/jpeg:https://aurabio.org/wp-content/uploads/2025/09/Campagnol.jpg
END:VEVENT
BEGIN:VEVENT
DTSTART;TZID=Europe/Paris:20251028T090000
DTEND;TZID=Europe/Paris:20251028T123000
DTSTAMP:20260421T191514
CREATED:20251017T102059Z
LAST-MODIFIED:20251017T102111Z
UID:10000030-1761642000-1761654600@aurabio.org
SUMMARY:Formation Lutter contre les taupes\, mulots et campagnols - PERFECTIONNEMENT
DESCRIPTION:Perfectionner ses techniques de piégeage mécaniques. \nEtre capable d’identifier les indices de surface et de poser les pièges adéquats en fonction de l’espèce ciblée. \nGérer le matériel de piégeage\, être efficace et autonome dans la pratique du piégeage \nPROGRAMME DÉTAILLÉ
URL:https://aurabio.org/evenement/formation-lutter-contre-les-taupes-mulots-et-campagnols-initiation-2/
LOCATION:Cellieu\, Cellieu\, Loire\, 42320
CATEGORIES:Formations
ATTACH;FMTTYPE=image/jpeg:https://aurabio.org/wp-content/uploads/2025/09/Campagnol.jpg
END:VEVENT
END:VCALENDAR