BEGIN:VCALENDAR
VERSION:2.0
PRODID:-//Aura Bio - ECPv6.15.20//NONSGML v1.0//EN
CALSCALE:GREGORIAN
METHOD:PUBLISH
X-WR-CALNAME:Aura Bio
X-ORIGINAL-URL:https://aurabio.org
X-WR-CALDESC:Évènements pour Aura Bio
REFRESH-INTERVAL;VALUE=DURATION:PT1H
X-Robots-Tag:noindex
X-PUBLISHED-TTL:PT1H
BEGIN:VTIMEZONE
TZID:Europe/Paris
BEGIN:DAYLIGHT
TZOFFSETFROM:+0100
TZOFFSETTO:+0200
TZNAME:CEST
DTSTART:20240331T010000
END:DAYLIGHT
BEGIN:STANDARD
TZOFFSETFROM:+0200
TZOFFSETTO:+0100
TZNAME:CET
DTSTART:20241027T010000
END:STANDARD
BEGIN:DAYLIGHT
TZOFFSETFROM:+0100
TZOFFSETTO:+0200
TZNAME:CEST
DTSTART:20250330T010000
END:DAYLIGHT
BEGIN:STANDARD
TZOFFSETFROM:+0200
TZOFFSETTO:+0100
TZNAME:CET
DTSTART:20251026T010000
END:STANDARD
BEGIN:DAYLIGHT
TZOFFSETFROM:+0100
TZOFFSETTO:+0200
TZNAME:CEST
DTSTART:20260329T010000
END:DAYLIGHT
BEGIN:STANDARD
TZOFFSETFROM:+0200
TZOFFSETTO:+0100
TZNAME:CET
DTSTART:20261025T010000
END:STANDARD
BEGIN:DAYLIGHT
TZOFFSETFROM:+0100
TZOFFSETTO:+0200
TZNAME:CEST
DTSTART:20270328T010000
END:DAYLIGHT
BEGIN:STANDARD
TZOFFSETFROM:+0200
TZOFFSETTO:+0100
TZNAME:CET
DTSTART:20271031T010000
END:STANDARD
END:VTIMEZONE
BEGIN:VEVENT
DTSTART;TZID=Europe/Paris:20251124T090000
DTEND;TZID=Europe/Paris:20251124T170000
DTSTAMP:20260421T192310
CREATED:20251017T124212Z
LAST-MODIFIED:20251017T124557Z
UID:10000036-1763974800-1764003600@aurabio.org
SUMMARY:Formation - Se perfectionner en maraîchage bio : POMME DE TERRE ET POIREAU
DESCRIPTION:Itinéraires techniques bio pomme de terre/poireaux en plein champ :\n– Conditions de production : place dans la rotation\n– Choix variétaux et plants\n– Travail du sol\, fertilisation\, plantation\n– Conduite de la culture et gestion sanitaire\n– Focus coûts de production et temps de travail\n– Stade de récolte ; repère qualité pour la récolte selon les circuits de commercialisation.\nEn salle\, présentation/powerpoint. Temps d’échanges entre producteurs sur les pratiques\, sur les variétés. \nPROGRAMME DÉTAILLÉ
URL:https://aurabio.org/evenement/formation-se-perfectionner-en-maraichage-bio-pomme-de-terre-et-poireau/
LOCATION:Rhône\, Rhône\, France
CATEGORIES:Formations
ATTACH;FMTTYPE=image/png:https://aurabio.org/wp-content/uploads/2025/10/LOGO_AGRIBIO-Rhone-Loire_small.png
END:VEVENT
BEGIN:VEVENT
DTSTART;TZID=Europe/Paris:20251202T090000
DTEND;TZID=Europe/Paris:20251202T170000
DTSTAMP:20260421T192310
CREATED:20251017T124454Z
LAST-MODIFIED:20251017T124532Z
UID:10000038-1764666000-1764694800@aurabio.org
SUMMARY:Formation - Se perfectionner en maraîchage bio : GESTION DE L'HERBE
DESCRIPTION:Gestion de l’herbe des cultures semées en maraîchage biologique\, de la théorie à la pratique\nIntervention sur :\nLes enjeux de la maîtrise de l’herbe\nConnaissance des adventices\nMoyens et techniques de lutte contre les adventices\n– Les principales techniques préventives – (faux semis\, occultation\, solarisation\, paillage\, implantation sous couvert\, autres…)\n– Les principales techniques curatives mises en œuvre\, le matériel nécessaire\, son efficacité\, ses limites …\nMise en œuvre d’itinéraires techniques : Travail en sous-groupes pour concevoir des itinéraires techniques\, en fonction des pratiques et contraintes de chacun.\nVisite d’exploitation équipée d’une combinaison de systèmes de gestion de l’herbe. \nPROGRAMME DÉTAILLÉ
URL:https://aurabio.org/evenement/formation-se-perfectionner-en-maraichage-bio-gestion-de-lherbe/
LOCATION:Rhône\, Rhône\, France
CATEGORIES:Formations
ATTACH;FMTTYPE=image/png:https://aurabio.org/wp-content/uploads/2025/10/LOGO_AGRIBIO-Rhone-Loire_small.png
END:VEVENT
BEGIN:VEVENT
DTSTART;TZID=Europe/Paris:20251208T080000
DTEND;TZID=Europe/Paris:20251208T170000
DTSTAMP:20260421T192310
CREATED:20251021T114221Z
LAST-MODIFIED:20251021T114221Z
UID:10000053-1765180800-1765213200@aurabio.org
SUMMARY:[FORMATION] ITINERAIRE TECHNIQUE DES SOLANACEES
DESCRIPTION:[FORMATION] ITINERAIRE TECHNIQUE DES SOLANACEES \nDate :  Lundi 8 décembre 2025 \nLieu : La Tour du Pin (38) \nObjectifs : \n\nConnaitre l’itinéraire technique des solanacées en Agriculture Biologique\nSavoir gérer le semis en fonction du matériel à disposition\nEtre en mesure de gérer les principaux enjeux sanitaires et de la maitrise des adventices en bio\nEtre en mesure de bien conserver et stocker\n\nIntervenant : Laurent CAMOIN (conseiller indépendant) \nInscriptions : ICI \nPlus d’information auprès de Céline LOPEZ : 06 21 69 09 97 / technique.pv3801@adabio.com \n  \nRETROUVER NOTRE CATALOGUE COMPLET : ICI
URL:https://aurabio.org/evenement/formation-itineraire-technique-des-solanacees/
LOCATION:Isère (38)\, Isère\, France
CATEGORIES:Formations
ATTACH;FMTTYPE=image/jpeg:https://aurabio.org/wp-content/uploads/2025/10/SOLANACEES.jpg
ORGANIZER;CN="ADABio":MAILTO:contact@adabio.com
END:VEVENT
BEGIN:VEVENT
DTSTART;TZID=Europe/Paris:20251209T080000
DTEND;TZID=Europe/Paris:20251209T170000
DTSTAMP:20260421T192310
CREATED:20251021T114500Z
LAST-MODIFIED:20251021T114500Z
UID:10000055-1765267200-1765299600@aurabio.org
SUMMARY:[FORMATION] ITINERAIRE TECHNIQUE DE LA FRAISE
DESCRIPTION:[FORMATION] ITINERAIRE TECHNIQUE DE LA FRAISE \nDate :  Mardi 9 décembre 2025 \nLieu : La Tour du Pin (38) \nObjectifs : \n\nConnaitre l’itinéraire technique de la fraise en Agriculture Biologique\nSavoir gérer le semis en fonction du matériel à disposition\nEtre en mesure de gérer les principaux enjeux sanitaires et de la maitrise des adventices en bio\nEtre en mesure de bien conserver et stocker\n\nIntervenant : Laurent CAMOIN (conseiller indépendant) \nInscriptions : ICI \nPlus d’information auprès de Céline LOPEZ : 06 21 69 09 97 / technique.pv3801@adabio.com \n  \nRETROUVER NOTRE CATALOGUE COMPLET : ICI
URL:https://aurabio.org/evenement/formation-itineraire-technique-de-la-fraise/
LOCATION:Isère (38)\, Isère\, France
CATEGORIES:Formations
ATTACH;FMTTYPE=image/jpeg:https://aurabio.org/wp-content/uploads/2025/10/FRAISE.jpg
ORGANIZER;CN="ADABio":MAILTO:contact@adabio.com
END:VEVENT
BEGIN:VEVENT
DTSTART;TZID=Europe/Paris:20251211T080000
DTEND;TZID=Europe/Paris:20251211T170000
DTSTAMP:20260421T192310
CREATED:20251021T114834Z
LAST-MODIFIED:20251021T114834Z
UID:10000058-1765440000-1765472400@aurabio.org
SUMMARY:[FORMATION] MISE EN PLACE ET GESTION DES ENGRAIS VERTS EN MARAICHAGE
DESCRIPTION:[FORMATION] MISE EN PLACE ET GESTION DES ENGRAIS VERTS EN MARAICHAGE \nDate :  Jeudi 11 décembre 2025 \nLieu : Annecy (74) \nObjectifs : \n\nConnaitre les différents engrais verts et leurs intérêts\nAdapter mes rotations et mes pratiques pour intégrer les bons engrais verts\n\nIntervenant : Stéphanie GAZEAU \nInscriptions : ICI \nPlus d’information auprès de Sophie BOMEL : 07 43 36 98 05 / technique.pv7374@adabio.com \n  \nRETROUVER NOTRE CATALOGUE COMPLET : ICI
URL:https://aurabio.org/evenement/formation-mise-en-place-et-gestion-des-engrais-verts-en-maraichage/
LOCATION:Haute-Savoie (74)\, Haute-Savoie
CATEGORIES:Formations
ATTACH;FMTTYPE=image/jpeg:https://aurabio.org/wp-content/uploads/2025/10/EV.jpg
ORGANIZER;CN="ADABio":MAILTO:contact@adabio.com
END:VEVENT
BEGIN:VEVENT
DTSTART;TZID=Europe/Paris:20251215T090000
DTEND;TZID=Europe/Paris:20251215T170000
DTSTAMP:20260421T192310
CREATED:20251017T124727Z
LAST-MODIFIED:20251017T124727Z
UID:10000039-1765789200-1765818000@aurabio.org
SUMMARY:Formation - Se perfectionner en maraîchage bio : ENGRAIS VERTS
DESCRIPTION:Renforcer l’utilisation d’engrais verts dans sa rotation de légumes\, lever les freins et optimiser ses pratiques\nL’influence des engrais verts sur la fertilité des sols\, sur la structuration des profils culturaux.\nNotion de compétitivité de l’engrais vert vis à vis des adventices et les effets inhibiteurs sur les maladies et ravageurs.\nLes grandes familles d’engrais verts\, itinéraires techniques et stratégies d’introduction dans une rotation maraîchère.\nA partir des contraintes de son exploitation\, mettre en place une stratégie rapide et efficace. Optimiser l’utilisation des engrais verts sur son exploitation. \nPROGRAMME DÉTAILLÉ
URL:https://aurabio.org/evenement/formation-se-perfectionner-en-maraichage-bio-engrais-verts/
LOCATION:Rhône\, Rhône\, France
CATEGORIES:Formations
ATTACH;FMTTYPE=image/png:https://aurabio.org/wp-content/uploads/2025/10/LOGO_AGRIBIO-Rhone-Loire_small.png
END:VEVENT
BEGIN:VEVENT
DTSTART;TZID=Europe/Paris:20251216T090000
DTEND;TZID=Europe/Paris:20251216T170000
DTSTAMP:20260421T192310
CREATED:20251017T124926Z
LAST-MODIFIED:20251017T124926Z
UID:10000040-1765875600-1765904400@aurabio.org
SUMMARY:Formation - Se perfectionner en maraîchage bio : LÉGUMES RATATOUILLE
DESCRIPTION:Conduite des légumes ratatouille en AB : Mieux maîtriser ses cultures de tomates\, poivrons\, aubergines et courgettes \nPour chacune de 4 espèces :\nCulture sous serre et en plein champ\,\nItinéraire technique : désherbage\, production de plants\nTechniques de palissage\nEvaluation de la rentabilité technique de tels ateliers.\nMaladies et ravageurs des légumes ratatouille\nLutte préventive et curative pour permettre un développement pertinent de ces cultures \nPROGRAMME DÉTAILLÉ
URL:https://aurabio.org/evenement/formation-se-perfectionner-en-maraichage-bio-legumes-ratatouille/
LOCATION:Rhône\, Rhône\, France
CATEGORIES:Formations
ATTACH;FMTTYPE=image/png:https://aurabio.org/wp-content/uploads/2025/10/LOGO_AGRIBIO-Rhone-Loire_small.png
END:VEVENT
BEGIN:VEVENT
DTSTART;TZID=Europe/Paris:20260126T090000
DTEND;TZID=Europe/Paris:20260319T170000
DTSTAMP:20260421T192310
CREATED:20260116T145022Z
LAST-MODIFIED:20260116T145052Z
UID:10000149-1769418000-1773939600@aurabio.org
SUMMARY:Formation - Haricots verts et salades / Se perfectionner en maraîchage bio
DESCRIPTION:Améliorer sa production en maraîchage bio sur les cultures de salades et haricots : choix variétaux\, calendrier de culture\, gestion de la fertilisation\, gestion sanitaire en AB \nLe 26 janvier 2026\, dans le Rhône ou la Loire \nPROGRAMME DÉTAILLÉ
URL:https://aurabio.org/evenement/formation-haricots-verts-et-salades-se-perfectionner-en-maraichage-bio/
LOCATION:Auvergne-Rhône-Alpes\, Auvergne-Rhône-Alpes
CATEGORIES:Formations
ATTACH;FMTTYPE=image/png:https://aurabio.org/wp-content/uploads/2026/01/Capture-decran-2026-01-16-154744.png
END:VEVENT
BEGIN:VEVENT
DTSTART;TZID=Europe/Paris:20260226T090000
DTEND;TZID=Europe/Paris:20260226T170000
DTSTAMP:20260421T192310
CREATED:20260116T145522Z
LAST-MODIFIED:20260116T145522Z
UID:10000150-1772096400-1772125200@aurabio.org
SUMMARY:Formation - Clés de réussite pour les légumes ratatouille
DESCRIPTION:Optimiser la conduite de la culture de tomates sur son exploitation. Savoir choisir les variétés adaptées à ses problématiques et à son contexte.\nMieux reconnaître les pathologies de la culture et savoir quoi mettre en œuvre pour limiter leur développement.\nDévelopper et optimiser la conduite des aubergines\, poivrons et courgettes sur son exploitation \nLe 26 janvier 2026\, dans le Rhône ou la Loire \nPROGRAMME DÉTAILLÉ
URL:https://aurabio.org/evenement/formation-cles-de-reussite-pour-les-legumes-ratatouille/
LOCATION:Auvergne-Rhône-Alpes\, Auvergne-Rhône-Alpes
CATEGORIES:Formations
ATTACH;FMTTYPE=image/jpeg:https://aurabio.org/wp-content/uploads/2026/01/ratatouille-3646586_1280.jpg
END:VEVENT
BEGIN:VEVENT
DTSTART;TZID=Europe/Paris:20260929T090000
DTEND;TZID=Europe/Paris:20260929T170000
DTSTAMP:20260421T192310
CREATED:20251215T162217Z
LAST-MODIFIED:20251215T163139Z
UID:10000118-1790672400-1790701200@aurabio.org
SUMMARY:Semeurs de bio 2026 - Préserver la vie du sol : fertilité et durabilité en bio
DESCRIPTION:Le salon professionnel Semeurs de Bio revient pour sa 4ème édition sur la thématique « Préserver la vie du sol : fertilité et durabilité en bio ». Ce salon maraîchage\, arboriculture\, petits fruits et PPAM se tiendra le 29 septembre 2026 à côté de Clermont Ferrand. \n100% bio\, le salon s’adresse à tous les professionnels du monde agricole : les agriculteurs\, les porteurs de projets\, les personnes souhaitant diversifier leur production ou s’installer\, ainsi qu’aux étudiants du monde agricole. Plus d’informations et le programme de la journée sont à venir sur la page officielle de l’événement : https://marmilhat.fr/semeurs-de-bio/ \nRetour sur l’édition 2024 \n\n430 visiteurs professionnels\n30 exposants\n17 associations\n50 personnes mobilisés pour l’organisation\n1 parcelle de démonstration\n2 food-trucks bio\n\n \nEn attendant\, rendez-vous sur notre page https://aurabio.org/produire-bio/ pour en savoir plus la production bio ! \nUn événement organisé par \n \nAvec le soutien financier de
URL:https://aurabio.org/evenement/semeurs-de-bio-2026-preserver-la-vie-du-sol-fertilite-et-durabilite-en-bio/
LOCATION:EPLEFPA DE MARMILHAT\, 63370 Marmilhat N\, Lempdes\, Puy-de-Dôme\, 63370\, France
CATEGORIES:Salons professionnels
ATTACH;FMTTYPE=image/png:https://aurabio.org/wp-content/uploads/2025/12/HEADER_FACEBOOK_850x312px.png
END:VEVENT
END:VCALENDAR