BEGIN:VCALENDAR
VERSION:2.0
PRODID:-//Aura Bio - ECPv6.15.20//NONSGML v1.0//EN
CALSCALE:GREGORIAN
METHOD:PUBLISH
X-ORIGINAL-URL:https://aurabio.org
X-WR-CALDESC:Évènements pour Aura Bio
REFRESH-INTERVAL;VALUE=DURATION:PT1H
X-Robots-Tag:noindex
X-PUBLISHED-TTL:PT1H
BEGIN:VTIMEZONE
TZID:Europe/Paris
BEGIN:DAYLIGHT
TZOFFSETFROM:+0100
TZOFFSETTO:+0200
TZNAME:CEST
DTSTART:20240331T010000
END:DAYLIGHT
BEGIN:STANDARD
TZOFFSETFROM:+0200
TZOFFSETTO:+0100
TZNAME:CET
DTSTART:20241027T010000
END:STANDARD
BEGIN:DAYLIGHT
TZOFFSETFROM:+0100
TZOFFSETTO:+0200
TZNAME:CEST
DTSTART:20250330T010000
END:DAYLIGHT
BEGIN:STANDARD
TZOFFSETFROM:+0200
TZOFFSETTO:+0100
TZNAME:CET
DTSTART:20251026T010000
END:STANDARD
BEGIN:DAYLIGHT
TZOFFSETFROM:+0100
TZOFFSETTO:+0200
TZNAME:CEST
DTSTART:20260329T010000
END:DAYLIGHT
BEGIN:STANDARD
TZOFFSETFROM:+0200
TZOFFSETTO:+0100
TZNAME:CET
DTSTART:20261025T010000
END:STANDARD
END:VTIMEZONE
BEGIN:VEVENT
DTSTART;VALUE=DATE:20250924
DTEND;VALUE=DATE:20250926
DTSTAMP:20260421T215846
CREATED:20250702T125906Z
LAST-MODIFIED:20250702T132945Z
UID:10000008-1758672000-1758844799@aurabio.org
SUMMARY:Conférence FRAB AURA à Tech & Bio 2025
DESCRIPTION:La FRAB AURA vous attend nombreuses et nombreux pour sa conférence mercredi 24 septembre de 11h à 12h à Tech & Bio à Bourg-les-Valence (26) : \nAdaptation aux Changements Climatiques : répartir\, infiltrer\, récupérer et économiser l’eau sur sa ferme \nPlongez dans la méthodologie systémique en 4 étapes du projet SMACC2 de la FRAB AURA en déploiement sur 80 fermes en AuRA avec le témoignage de 2 fermes bio du projet. Avec les interventions de : \n\nAlexandre Barrier-Guillot\, responsable pôle maraîchage et conseiller technique maraîchage bio à la FRAB AURA\nNathanaël Jacquart\, maraîcher bio (63) et président de la FRAB AURA\nPierre Cellier\, maraîcher bio (69) et administrateur d’AGRIBIO RHÔNE & LOIRE\n\nLe projet SMACC 2 accompagne les fermes maraîchères bio d’Auvergne dans leur adaptation aux changements climatiques. SMACC2 s’appuie sur une nouvelle approche innovante des ferrmes dite « approche systémique ». A découvrir sur Tech & Bio 2025. \nLes chargés de missions et conseillers technique du réseau GAB-FRAB AURA seront disponibles pour échanger avec vous sur le stand D1 de la FRAB AURA les 24 et 25 septembre 2025 à Bourg-les-Valence. \nDécouvrez le programme de Tech & Bio 2025 et prenez vos billets
URL:https://aurabio.org/evenement/conference-frab-aura-tech-bio/
LOCATION:Chambre d’agriculture de la Drôme\, 145 avenue Georges Brassens\, Bourg-lès-Valence\, Drôme\, 26500\, France
CATEGORIES:Colloques,Salons professionnels
ATTACH;FMTTYPE=image/jpeg:https://aurabio.org/wp-content/uploads/2025/07/Tech-Bio-2023_Inauguration.jpg
END:VEVENT
BEGIN:VEVENT
DTSTART;TZID=Europe/Paris:20250915T080000
DTEND;TZID=Europe/Paris:20250916T170000
DTSTAMP:20260421T215846
CREATED:20251021T112636Z
LAST-MODIFIED:20251021T112636Z
UID:10000042-1757923200-1758042000@aurabio.org
SUMMARY:[FORMATION] GESTION FERTILITÉ DU SOL ET MATIÈRES ORGANIQUES EN GRANDES CULTURES AB
DESCRIPTION:[FORMATION] GESTION FERTILITÉ DU SOL ET MATIÈRES ORGANIQUES EN GRANDES CULTURES AB \nDate : Lundi 15 et mardi 16 septembre 2025 \nLieu : à définir secteur Grand Annecy (74) \nObjectifs : \n\nOptimiser les types et dates d’apports de MO en fonction du type de sol et de son potentiel\nConnaître les pratiques de fertilisation et de travail du sol qui favorisent un sol « vivant »\n\nIntervenant : Victor GALLAND\, conseiller sols au Groupement d’Agriculteurs Biologiques des Hautes Alpes \nPlus d’information auprès d’Eve GENTIL : 06 21 69 09 80 / technique.pa7374@adabio.com \n  \nRETROUVER NOTRE CATALOGUE COMPLET : ICI
URL:https://aurabio.org/evenement/formation-gestion-fertilite-du-sol-et-matieres-organiques-en-grandes-cultures-ab/
LOCATION:Haute-Savoie (74)\, Haute-Savoie
CATEGORIES:Formations
ATTACH;FMTTYPE=image/jpeg:https://aurabio.org/wp-content/uploads/2025/10/Gestion-MO.jpg
ORGANIZER;CN="ADABio":MAILTO:contact@adabio.com
END:VEVENT
END:VCALENDAR