BEGIN:VCALENDAR
VERSION:2.0
PRODID:-//Aura Bio - ECPv6.15.20//NONSGML v1.0//EN
CALSCALE:GREGORIAN
METHOD:PUBLISH
X-ORIGINAL-URL:https://aurabio.org
X-WR-CALDESC:Évènements pour Aura Bio
REFRESH-INTERVAL;VALUE=DURATION:PT1H
X-Robots-Tag:noindex
X-PUBLISHED-TTL:PT1H
BEGIN:VTIMEZONE
TZID:Europe/Paris
BEGIN:DAYLIGHT
TZOFFSETFROM:+0100
TZOFFSETTO:+0200
TZNAME:CEST
DTSTART:20250330T010000
END:DAYLIGHT
BEGIN:STANDARD
TZOFFSETFROM:+0200
TZOFFSETTO:+0100
TZNAME:CET
DTSTART:20251026T010000
END:STANDARD
BEGIN:DAYLIGHT
TZOFFSETFROM:+0100
TZOFFSETTO:+0200
TZNAME:CEST
DTSTART:20260329T010000
END:DAYLIGHT
BEGIN:STANDARD
TZOFFSETFROM:+0200
TZOFFSETTO:+0100
TZNAME:CET
DTSTART:20261025T010000
END:STANDARD
BEGIN:DAYLIGHT
TZOFFSETFROM:+0100
TZOFFSETTO:+0200
TZNAME:CEST
DTSTART:20270328T010000
END:DAYLIGHT
BEGIN:STANDARD
TZOFFSETFROM:+0200
TZOFFSETTO:+0100
TZNAME:CET
DTSTART:20271031T010000
END:STANDARD
END:VTIMEZONE
BEGIN:VEVENT
DTSTART;TZID=Europe/Paris:20260306T090000
DTEND;TZID=Europe/Paris:20260306T170000
DTSTAMP:20260421T101934
CREATED:20260302T141947Z
LAST-MODIFIED:20260302T144842Z
UID:10000160-1772787600-1772816400@aurabio.org
SUMMARY:Formation : Optimiser ses traitements pour gérer les principales maladies de la vigne - 6 mars 2026
DESCRIPTION:AgribioDrôme propose une formation sur l’utilisation des différentes spécialités de cuivre et souffre pour adapter chaque traitement au contexte climatique et aux besoins de la vigne.\nDate : 6 mars 2026\nLieu : Sud Drôme – Buisson\nAu programme :  \nMatin: \n\nPrésentation sur les différentes spécialités autorisées en AB aujourd’hui : retour sur les changements de réglementation récents\nCaractéristiques des différentes spécialités : quelle spécialité utiliser en fonction de la météo ? Quels mélanges réaliser en fonction du contexte à la parcelle ? \nLe cycle des différentes maladies de la vigne en lien avec l’optimisation de la date et de la composition des traitements pour gagner en efficacité.\n\nAprès-midi :  \n\nLes mesures préventives et la gestion de la protection directe contre les principales maladies de la vigne\nLes cépages résistants : avantages et limites à leur implantation\, ITK de conduite à la vigne et au chai\n\nIntervenant : David Marchand – chercheur en viticulture biologique au FIBL Suisse\nSi vous êtes intéressés\, inscrivez vous ici
URL:https://aurabio.org/evenement/formation-optimiser-ses-traitements-pour-gerer-les-principales-maladies-de-la-vigne-6-mars-2026/
LOCATION:Drôme\, Drôme
CATEGORIES:Formations
END:VEVENT
END:VCALENDAR