BEGIN:VCALENDAR
VERSION:2.0
PRODID:-//Aura Bio - ECPv6.15.20//NONSGML v1.0//EN
CALSCALE:GREGORIAN
METHOD:PUBLISH
X-ORIGINAL-URL:https://aurabio.org
X-WR-CALDESC:Évènements pour Aura Bio
REFRESH-INTERVAL;VALUE=DURATION:PT1H
X-Robots-Tag:noindex
X-PUBLISHED-TTL:PT1H
BEGIN:VTIMEZONE
TZID:Europe/Paris
BEGIN:DAYLIGHT
TZOFFSETFROM:+0100
TZOFFSETTO:+0200
TZNAME:CEST
DTSTART:20240331T010000
END:DAYLIGHT
BEGIN:STANDARD
TZOFFSETFROM:+0200
TZOFFSETTO:+0100
TZNAME:CET
DTSTART:20241027T010000
END:STANDARD
BEGIN:DAYLIGHT
TZOFFSETFROM:+0100
TZOFFSETTO:+0200
TZNAME:CEST
DTSTART:20250330T010000
END:DAYLIGHT
BEGIN:STANDARD
TZOFFSETFROM:+0200
TZOFFSETTO:+0100
TZNAME:CET
DTSTART:20251026T010000
END:STANDARD
BEGIN:DAYLIGHT
TZOFFSETFROM:+0100
TZOFFSETTO:+0200
TZNAME:CEST
DTSTART:20260329T010000
END:DAYLIGHT
BEGIN:STANDARD
TZOFFSETFROM:+0200
TZOFFSETTO:+0100
TZNAME:CET
DTSTART:20261025T010000
END:STANDARD
BEGIN:DAYLIGHT
TZOFFSETFROM:+0100
TZOFFSETTO:+0200
TZNAME:CEST
DTSTART:20270328T010000
END:DAYLIGHT
BEGIN:STANDARD
TZOFFSETFROM:+0200
TZOFFSETTO:+0100
TZNAME:CET
DTSTART:20271031T010000
END:STANDARD
END:VTIMEZONE
BEGIN:VEVENT
DTSTART;TZID=Europe/Paris:20260204T090000
DTEND;TZID=Europe/Paris:20260205T170000
DTSTAMP:20260421T114628
CREATED:20260112T145634Z
LAST-MODIFIED:20260112T145634Z
UID:10000122-1770195600-1770310800@aurabio.org
SUMMARY:Formations - Soins des plantes par les plantes
DESCRIPTION:Objectifs : utiliser et produire ses extraits de plantes\n– Comprendre le fonctionnement de la plante et du sol\n– Comprendre les fondements de la Phytothérapie Agricole\n– Connaître les différentes préparations utilisées…\n– Être capable de fabriquer des EF\, Tisanes\, …\n– Évaluer le stade de fermentation par les mesures (ph\, redox\, conductivité)\n– Être capable d’utiliser les protocoles.
URL:https://aurabio.org/evenement/formations-soins-plantes-phytotherapie/
LOCATION:Puy-de-Dôme\, Puy-de-Dôme\, France
CATEGORIES:Formations
ATTACH;FMTTYPE=image/jpeg:https://aurabio.org/wp-content/uploads/2026/01/IMG_20220315_142509.jpg
END:VEVENT
BEGIN:VEVENT
DTSTART;TZID=Europe/Paris:20260119T090000
DTEND;TZID=Europe/Paris:20260120T170000
DTSTAMP:20260421T114628
CREATED:20260112T144257Z
LAST-MODIFIED:20260112T144257Z
UID:10000121-1768813200-1768928400@aurabio.org
SUMMARY:Formations - Produire du raisin de table bio pour se diversifier
DESCRIPTION:L’objectif de cette formation est de connaître les bases pour la mise en place et la conduite d’un atelier raisin de table sur sa ferme : choix variétale\, plantation\, mode conduite\, pilotage de la culture\, taille et entretien\, charge de travail et commercialisation.
URL:https://aurabio.org/evenement/formations-raisin-de-table-bio/
LOCATION:Aubière\, 11 allée Pierre de Fermat\, Aubière\, Puy-de-Dôme\, 63170\, France
CATEGORIES:Formations
ATTACH;FMTTYPE=image/jpeg:https://aurabio.org/wp-content/uploads/2026/01/IMG_20250721_160205.jpg
END:VEVENT
BEGIN:VEVENT
DTSTART;TZID=Europe/Paris:20251209T093000
DTEND;TZID=Europe/Paris:20251209T121500
DTSTAMP:20260421T114628
CREATED:20251120T090147Z
LAST-MODIFIED:20251125T091424Z
UID:10000103-1765272600-1765282500@aurabio.org
SUMMARY:Webinaire régional sur la contractualisation dans les filières biologiques
DESCRIPTION:Dans un contexte agricole marqué par des enjeux économiques\, climatiques et réglementaires croissants\, la contractualisation s’impose comme un outil essentiel pour sécuriser les relations entre les maillons des filières biologiques. Elle permet de renforcer la transparence\, la stabilité et la durabilité des échanges\, tout en garantissant une meilleure répartition de la valeur ajoutée. \nC’est pourquoi\, la Chambre régionale d’agriculture avec ses partenaires\, la FRAB AURA et le Cluster Bio Auvergne-Rhône-Alpes\, organise ce webinaire à destination des producteurs\, transformateurs\, coopératives\, acheteurs\, grossistes\, distributeurs… Il donnera l’occasion d’échanger sur les bonnes pratiques\, les innovations et les défis liés à la contractualisation. \nAU PROGRAMME : \n\nDécryptage des bonnes pratiques et des outils\n\nBiocoop \nPaul Getti\, Moulin Marion \nJean-Charles Jocteur\, producteur bio \nEmille Planel\, Agricourt \nAdrien Lamey\, Coopérative Oxyane \n\nFocus sur le commerce équitable\n\nJulie Maisonhaute\, Commerce Équitable France \nChristelle Lamouche\, Arcadie \n\nEchanges avec les acteurs régionaux des filières biologiques\n\nCet événement est organisé avec le soutien financier de la Région Auvergne-Rhône-Alpes et du Ministère de l’Agriculture\, de l’Agroalimentaire et de la Souveraineté alimentaire. \nInscription obligatoire ici
URL:https://aurabio.org/evenement/webinaire-regional-contractualisation-filieres-biologiques/
LOCATION:Auvergne-Rhône-Alpes\, Auvergne-Rhône-Alpes
CATEGORIES:Webinaires
ATTACH;FMTTYPE=image/jpeg:https://aurabio.org/wp-content/uploads/2025/11/Visuel-webinaire-contractualisation-e1763630447148.jpg
END:VEVENT
BEGIN:VEVENT
DTSTART;TZID=Europe/Paris:20251117T093000
DTEND;TZID=Europe/Paris:20251117T170000
DTSTAMP:20260421T114628
CREATED:20251016T070000Z
LAST-MODIFIED:20251022T131456Z
UID:10000028-1763371800-1763398800@aurabio.org
SUMMARY:Rencontre régionale "Filière viande bovine Bio"
DESCRIPTION:La FRAB AuRA et l’ensemble des partenaires du Plan Bio Régional vous invitent à la rencontre régionale des acteurs de la filière viande bovine bio 2025. \nJournée gratuite (seul le repas est à la charge de chaque participant)\, mais inscription préalable obligatoire via ce formulaire en ligne. Venez nombreux et nombreuses ! \n \nJournée organisée avec le soutien de la Région Auvergne-Rhône-Alpes et de l’État
URL:https://aurabio.org/evenement/rencontre-regionale-filiere-viande-bovine-bio/
LOCATION:La Ferme aux 3 Granges\, 45 Route du Canal\, Boisset-lès-Montrond\, Loire\, 42210\, France
CATEGORIES:Journées filières régionales
ATTACH;FMTTYPE=image/png:https://aurabio.org/wp-content/uploads/2025/10/2024_logo-partenaires-filieres-bio-AuRA_petit-carre.png
END:VEVENT
BEGIN:VEVENT
DTSTART;TZID=Europe/Paris:20251106T090000
DTEND;TZID=Europe/Paris:20251106T170000
DTSTAMP:20260421T114628
CREATED:20251007T122853Z
LAST-MODIFIED:20251007T122853Z
UID:10000024-1762419600-1762448400@aurabio.org
SUMMARY:Formations - Gestion de la fertilisation de son verger bio
DESCRIPTION:L’objectif de cette formation est de gérer la fertilisation de son verger en bio : besoins des arbres fruitiers\, périodes d’apports\, forme des apports\, produits disponibles
URL:https://aurabio.org/evenement/formations-gestion-de-la-fertilite-des-sols-en-verger-bio/
LOCATION:Puy-de-Dôme\, Puy-de-Dôme\, France
CATEGORIES:Formations
ATTACH;FMTTYPE=image/jpeg:https://aurabio.org/wp-content/uploads/2025/08/compost-e1759325737641.jpg
END:VEVENT
BEGIN:VEVENT
DTSTART;TZID=Europe/Paris:20251105T090000
DTEND;TZID=Europe/Paris:20251105T170000
DTSTAMP:20260421T114628
CREATED:20250926T145740Z
LAST-MODIFIED:20251008T164239Z
UID:10000013-1762333200-1762362000@aurabio.org
SUMMARY:Formations - Reconnaissance\, gestion et prévention des maladies et ravageurs au verger bio
DESCRIPTION:Une journée en salle pour la base\, complétée par 2 sessions de 2h de visio pour un appui technique en démarrage de saison
URL:https://aurabio.org/evenement/formations-ravageurs-maladies-arboriculture/
LOCATION:Puy-de-Dôme\, Puy-de-Dôme\, France
CATEGORIES:Formations
ATTACH;FMTTYPE=image/jpeg:https://aurabio.org/wp-content/uploads/2025/09/IMG_20220616_110441-2-e1759941750560.jpg
END:VEVENT
BEGIN:VEVENT
DTSTART;TZID=Europe/Paris:20251104T090000
DTEND;TZID=Europe/Paris:20251104T180000
DTSTAMP:20260421T114628
CREATED:20251008T125055Z
LAST-MODIFIED:20251008T162606Z
UID:10000023-1762246800-1762279200@aurabio.org
SUMMARY:Journée Maraichage BIO AuRA 2025
DESCRIPTION:La journée du Maraîchage Bio d’Auvergne-Rhône-Alpes \nLe réseau FRAB & GAB AuRA invite les maraîchers et maraîchères à une journée technique et conviviale le 4 novembre 2025 \nAu programme : ateliers pratiques & convivialité \n\nOptimisation & économie d’eau\nTemps de travail & ergonomie\nFertilité des sols en agriculture biologique\nGestion des matières organiques\nOmbrage sous abri & de plein champ\,\nDébouchés & Commercialisation\n\nTélécharger le programme détaillé \n-> Pour s’inscrire \nInscription obligatoire\, journée gratuite réservée aux professionnel.le.s.
URL:https://aurabio.org/evenement/journee-maraichage-bio-aura-2025/
LOCATION:Les Jardins du Treille\, Les Hayes\, Maringes\, Loire\, 42140
CATEGORIES:Journées filières régionales,Rencontres techniques,Visites de ferme
ATTACH;FMTTYPE=image/jpeg:https://aurabio.org/wp-content/uploads/2025/10/1-e1759940753235.jpg
END:VEVENT
END:VCALENDAR